BEGIN:VCALENDAR
VERSION:2.0
PRODID:-//SHPE Chicago - ECPv6.15.20//NONSGML v1.0//EN
CALSCALE:GREGORIAN
METHOD:PUBLISH
X-WR-CALNAME:SHPE Chicago
X-ORIGINAL-URL:https://shpechicago.org
X-WR-CALDESC:Events for SHPE Chicago
REFRESH-INTERVAL;VALUE=DURATION:PT1H
X-Robots-Tag:noindex
X-PUBLISHED-TTL:PT1H
BEGIN:VTIMEZONE
TZID:America/Chicago
BEGIN:DAYLIGHT
TZOFFSETFROM:-0600
TZOFFSETTO:-0500
TZNAME:CDT
DTSTART:20180311T080000
END:DAYLIGHT
BEGIN:STANDARD
TZOFFSETFROM:-0500
TZOFFSETTO:-0600
TZNAME:CST
DTSTART:20181104T070000
END:STANDARD
BEGIN:DAYLIGHT
TZOFFSETFROM:-0600
TZOFFSETTO:-0500
TZNAME:CDT
DTSTART:20190310T080000
END:DAYLIGHT
BEGIN:STANDARD
TZOFFSETFROM:-0500
TZOFFSETTO:-0600
TZNAME:CST
DTSTART:20191103T070000
END:STANDARD
BEGIN:DAYLIGHT
TZOFFSETFROM:-0600
TZOFFSETTO:-0500
TZNAME:CDT
DTSTART:20200308T080000
END:DAYLIGHT
BEGIN:STANDARD
TZOFFSETFROM:-0500
TZOFFSETTO:-0600
TZNAME:CST
DTSTART:20201101T070000
END:STANDARD
END:VTIMEZONE
BEGIN:VEVENT
DTSTART;TZID=America/Chicago:20190907T073000
DTEND;TZID=America/Chicago:20190907T093000
DTSTAMP:20260420T150852
CREATED:20190817T042319Z
LAST-MODIFIED:20190817T042319Z
UID:2337-1567841400-1567848600@shpechicago.org
SUMMARY:Greater Chicago Food Repository Annual Hunger Walk
DESCRIPTION:The SHPE Morton College Chapter would like to extend an invitation to SHPE-Chicago to join them at the Greater Chicago Food Depository’s (GCFD) Annual Hunger Walk on Saturday\, September 7 from 7:30AM to 9:30AM in Jackson Park. \nThere is no cost. Each registered walker earns 171 pounds of fresh food for the Breakthrough Urban Ministries’ Food Pantry located on Chicago’s West Side\, enough to feed a family of four for nine days! \nThis is the link to join the Breakthrough Fresh Market Team using code A00235: https://www.classy.org/team/236846 \nClick the “Join Team” button on the left side of the page and enter the code A00235 (or type “Breakthrough” into the search bar). Send us an email with the members who are attending and I will send out the same later this week. We have 3 people signed up so far\, that’s 513 pounds of food. Let’s turn that number into the THOUSANDS! \nContact Sandra Roman with any questions: shpemortonpresident@gmail.com
URL:https://shpechicago.org/event/greater-chicago-food-repository-annual-hunger-walk/
LOCATION:Jackson Park\, 1793 East Hayes Drive\, Chicago\, IL\, 60649\, United States
END:VEVENT
END:VCALENDAR