BEGIN:VCALENDAR
VERSION:2.0
PRODID:-//SHPE Chicago - ECPv6.15.20//NONSGML v1.0//EN
CALSCALE:GREGORIAN
METHOD:PUBLISH
X-WR-CALNAME:SHPE Chicago
X-ORIGINAL-URL:https://shpechicago.org
X-WR-CALDESC:Events for SHPE Chicago
REFRESH-INTERVAL;VALUE=DURATION:PT1H
X-Robots-Tag:noindex
X-PUBLISHED-TTL:PT1H
BEGIN:VTIMEZONE
TZID:America/Chicago
BEGIN:DAYLIGHT
TZOFFSETFROM:-0600
TZOFFSETTO:-0500
TZNAME:CDT
DTSTART:20180311T080000
END:DAYLIGHT
BEGIN:STANDARD
TZOFFSETFROM:-0500
TZOFFSETTO:-0600
TZNAME:CST
DTSTART:20181104T070000
END:STANDARD
BEGIN:DAYLIGHT
TZOFFSETFROM:-0600
TZOFFSETTO:-0500
TZNAME:CDT
DTSTART:20190310T080000
END:DAYLIGHT
BEGIN:STANDARD
TZOFFSETFROM:-0500
TZOFFSETTO:-0600
TZNAME:CST
DTSTART:20191103T070000
END:STANDARD
BEGIN:DAYLIGHT
TZOFFSETFROM:-0600
TZOFFSETTO:-0500
TZNAME:CDT
DTSTART:20200308T080000
END:DAYLIGHT
BEGIN:STANDARD
TZOFFSETFROM:-0500
TZOFFSETTO:-0600
TZNAME:CST
DTSTART:20201101T070000
END:STANDARD
END:VTIMEZONE
BEGIN:VEVENT
DTSTART;TZID=America/Chicago:20190913T180000
DTEND;TZID=America/Chicago:20190913T210000
DTSTAMP:20260422T032949
CREATED:20190826T191734Z
LAST-MODIFIED:20190826T191906Z
UID:2457-1568397600-1568408400@shpechicago.org
SUMMARY:Hispanic Heritage Month Kick-Off Celebration
DESCRIPTION:In partnership with HispanicPro\, please join us at the Godfrey Hotel rooftop on Friday\, September 13th from 6-9 PM for the Hispanic Heritage Month Kick-Off Celebration! Discounted tickets are available for current SHPE-members at the following link (discount ends soon\, register NOW!): \nhttps://2019-heritage-celebration.eventbrite.com?discount=ORGHERITAGEDISCREGIS \nRegister today and bring a friend!
URL:https://shpechicago.org/event/hispanic-heritage-month-kick-off-celebration/
LOCATION:Godfrey Hotel\, 127 West Huron Street\, Chicago\, IL\, 60654\, United States
END:VEVENT
END:VCALENDAR