BEGIN:VCALENDAR
VERSION:2.0
PRODID:-//SHPE Chicago - ECPv6.15.20//NONSGML v1.0//EN
CALSCALE:GREGORIAN
METHOD:PUBLISH
X-ORIGINAL-URL:https://shpechicago.org
X-WR-CALDESC:Events for SHPE Chicago
REFRESH-INTERVAL;VALUE=DURATION:PT1H
X-Robots-Tag:noindex
X-PUBLISHED-TTL:PT1H
BEGIN:VTIMEZONE
TZID:America/Chicago
BEGIN:DAYLIGHT
TZOFFSETFROM:-0600
TZOFFSETTO:-0500
TZNAME:CDT
DTSTART:20170312T080000
END:DAYLIGHT
BEGIN:STANDARD
TZOFFSETFROM:-0500
TZOFFSETTO:-0600
TZNAME:CST
DTSTART:20171105T070000
END:STANDARD
BEGIN:DAYLIGHT
TZOFFSETFROM:-0600
TZOFFSETTO:-0500
TZNAME:CDT
DTSTART:20180311T080000
END:DAYLIGHT
BEGIN:STANDARD
TZOFFSETFROM:-0500
TZOFFSETTO:-0600
TZNAME:CST
DTSTART:20181104T070000
END:STANDARD
BEGIN:DAYLIGHT
TZOFFSETFROM:-0600
TZOFFSETTO:-0500
TZNAME:CDT
DTSTART:20190310T080000
END:DAYLIGHT
BEGIN:STANDARD
TZOFFSETFROM:-0500
TZOFFSETTO:-0600
TZNAME:CST
DTSTART:20191103T070000
END:STANDARD
END:VTIMEZONE
BEGIN:VEVENT
DTSTART;VALUE=DATE:20180405
DTEND;VALUE=DATE:20180409
DTSTAMP:20260425T215317
CREATED:20171219T033854Z
LAST-MODIFIED:20180328T144936Z
UID:1989-1522886400-1523231999@shpechicago.org
SUMMARY:Region VI RLDC
DESCRIPTION:The Region VI Regional Leadership Development Conference (RLDC) will take place Thursday\, April 5 – Sunday\, April 8\, 2018 at the University of Illinois\, Chicago. \nSHPE stages regional leadership development conferences on a yearly basis for the leadership of the SHPE student chapters to improve their organizational\, managerial\, and technical skills. They take place in all of the seven SHPE regions. \nThis program helps college students develop and improve their pre-college outreach programs and improve the infrastructure of SHPE student chapters. \nStudent leaders learn how to interact and network with SHPE’s corporate supporters. \nClick here to visit the RLDC Region 6 website
URL:https://shpechicago.org/event/region-vi-rldc/
LOCATION:University of Illinois at Chicago\, 301 E North Water St\, Chicago\, IL\, 60611\, United States
END:VEVENT
BEGIN:VEVENT
DTSTART;TZID=America/Chicago:20180425T190000
DTEND;TZID=America/Chicago:20180425T200000
DTSTAMP:20260425T215317
CREATED:20180409T014752Z
LAST-MODIFIED:20180409T014752Z
UID:2037-1524682800-1524686400@shpechicago.org
SUMMARY:Monthly Best-Practices Webinar: Engineering and the Human Factor
DESCRIPTION:As engineers and scientists\, we are filled with decisions every day from choosing the correct data set and equation to the human dilemmas encountered as project managers. In your career\, you will have to make judgement calls that will rely not only on your professional experience\, but also your moral compass. In this webinar\, participants will learn from experts in the field on how they handled tough decisions when they were at the crossroads of engineering and the human experience. \nPlease join us on the SHPE National Facebook page at 8pm ET/5pm PT on Wednesday\, April 25. Bring your questions! \nRSVP Now \nP.S. If you missed our previous webinars\, you can still watch them. Just go to the Best-Practice Webinars playlist on our Facebook videos page.
URL:https://shpechicago.org/event/monthly-best-practices-webinar-engineering-and-the-human-factor/
LOCATION:IL
END:VEVENT
END:VCALENDAR