BEGIN:VCALENDAR
VERSION:2.0
PRODID:-//SHPE Chicago - ECPv6.15.20//NONSGML v1.0//EN
CALSCALE:GREGORIAN
METHOD:PUBLISH
X-WR-CALNAME:SHPE Chicago
X-ORIGINAL-URL:https://shpechicago.org
X-WR-CALDESC:Events for SHPE Chicago
REFRESH-INTERVAL;VALUE=DURATION:PT1H
X-Robots-Tag:noindex
X-PUBLISHED-TTL:PT1H
BEGIN:VTIMEZONE
TZID:America/Chicago
BEGIN:DAYLIGHT
TZOFFSETFROM:-0600
TZOFFSETTO:-0500
TZNAME:CDT
DTSTART:20170312T080000
END:DAYLIGHT
BEGIN:STANDARD
TZOFFSETFROM:-0500
TZOFFSETTO:-0600
TZNAME:CST
DTSTART:20171105T070000
END:STANDARD
BEGIN:DAYLIGHT
TZOFFSETFROM:-0600
TZOFFSETTO:-0500
TZNAME:CDT
DTSTART:20180311T080000
END:DAYLIGHT
BEGIN:STANDARD
TZOFFSETFROM:-0500
TZOFFSETTO:-0600
TZNAME:CST
DTSTART:20181104T070000
END:STANDARD
BEGIN:DAYLIGHT
TZOFFSETFROM:-0600
TZOFFSETTO:-0500
TZNAME:CDT
DTSTART:20190310T080000
END:DAYLIGHT
BEGIN:STANDARD
TZOFFSETFROM:-0500
TZOFFSETTO:-0600
TZNAME:CST
DTSTART:20191103T070000
END:STANDARD
END:VTIMEZONE
BEGIN:VEVENT
DTSTART;TZID=America/Chicago:20180530T190000
DTEND;TZID=America/Chicago:20180530T200000
DTSTAMP:20260425T092046
CREATED:20180503T163557Z
LAST-MODIFIED:20180503T163557Z
UID:2051-1527706800-1527710400@shpechicago.org
SUMMARY:Best-Practices Webinar: Navigating the Job Market to Seal the Deal
DESCRIPTION:Our next Monthly Best-Practices Webinar is Navigating the Job Market to Seal the Deal. \nThinking about switching careers or just starting one? If so\, then join us for the May webinar to discover new techniques and resources to help you navigate your job search effectively and confidently in order for you to increase your job search opportunities. \nThere are no magic bullets that will land you a job\, but there are certainly steps you can take to improve your chances. Listen to experts as they share effective ways to navigate the job market to seal the deal! \nPlease join us on the SHPE National Facebook page at 8pm ET/5pm PT on Wednesday\, May 30. Bring your questions! \nRSVP NOW \nP.S. If you missed our previous webinars\, you can still watch them. Just go to the Best-Practice Webinars playlist on our Facebook videos page.
URL:https://shpechicago.org/event/best-practices-webinar-navigating-the-job-market-to-seal-the-deal/
LOCATION:IL
END:VEVENT
END:VCALENDAR