BEGIN:VCALENDAR
VERSION:2.0
PRODID:-//SHPE Chicago - ECPv6.15.20//NONSGML v1.0//EN
CALSCALE:GREGORIAN
METHOD:PUBLISH
X-ORIGINAL-URL:https://shpechicago.org
X-WR-CALDESC:Events for SHPE Chicago
REFRESH-INTERVAL;VALUE=DURATION:PT1H
X-Robots-Tag:noindex
X-PUBLISHED-TTL:PT1H
BEGIN:VTIMEZONE
TZID:America/Chicago
BEGIN:DAYLIGHT
TZOFFSETFROM:-0600
TZOFFSETTO:-0500
TZNAME:CDT
DTSTART:20170312T080000
END:DAYLIGHT
BEGIN:STANDARD
TZOFFSETFROM:-0500
TZOFFSETTO:-0600
TZNAME:CST
DTSTART:20171105T070000
END:STANDARD
BEGIN:DAYLIGHT
TZOFFSETFROM:-0600
TZOFFSETTO:-0500
TZNAME:CDT
DTSTART:20180311T080000
END:DAYLIGHT
BEGIN:STANDARD
TZOFFSETFROM:-0500
TZOFFSETTO:-0600
TZNAME:CST
DTSTART:20181104T070000
END:STANDARD
BEGIN:DAYLIGHT
TZOFFSETFROM:-0600
TZOFFSETTO:-0500
TZNAME:CDT
DTSTART:20190310T080000
END:DAYLIGHT
BEGIN:STANDARD
TZOFFSETFROM:-0500
TZOFFSETTO:-0600
TZNAME:CST
DTSTART:20191103T070000
END:STANDARD
END:VTIMEZONE
BEGIN:VEVENT
DTSTART;VALUE=DATE:20180601
DTEND;VALUE=DATE:20180604
DTSTAMP:20260424T052302
CREATED:20180517T171356Z
LAST-MODIFIED:20180517T171356Z
UID:2071-1527811200-1528070399@shpechicago.org
SUMMARY:Latina Expo at UIC Forum with Keynote Speaker Raquel Tamez\, SHPE CEO
DESCRIPTION:
URL:https://shpechicago.org/event/latina-expo-at-uic-forum-with-keynote-speaker-raquel-tamez-shpe-ceo/
LOCATION:IL
END:VEVENT
BEGIN:VEVENT
DTSTART;VALUE=DATE:20180615
DTEND;VALUE=DATE:20180616
DTSTAMP:20260424T052302
CREATED:20180508T034529Z
LAST-MODIFIED:20180508T034558Z
UID:2057-1529020800-1529107199@shpechicago.org
SUMMARY:SHPE Chicago Scholarship Application Deadline
DESCRIPTION:Please visit the page below for details:\nhttp://shpechicago.org/apply-to-shpe-chicago-scholarship-by-june-15/ \n 
URL:https://shpechicago.org/event/deadline-for-shpe-chicago-scholarship/
LOCATION:IL
END:VEVENT
BEGIN:VEVENT
DTSTART;TZID=America/Chicago:20180627T180000
DTEND;TZID=America/Chicago:20180627T190000
DTSTAMP:20260424T052302
CREATED:20180608T023833Z
LAST-MODIFIED:20180608T023833Z
UID:2094-1530122400-1530126000@shpechicago.org
SUMMARY:Monthly Best-Practices Webinar - Work Smarter\, Live Better: Strengthening Your Work-Life Balance
DESCRIPTION:Our next Monthly Best-Practices Webinar is Work Smarter\, Live Better: Strengthening Your Work-Life Balance.  \nJoin us as we learn from experts about strategies and tools that can be used to achieve a strong work-life balance. We will focus on adjusting work style and managing demands for better work\, health\, and life outcomes. Participants will learn how to successfully gain control both professionally and personally to thrive in a healthy lifestyle. \nPlease join us on the SHPE National Facebook page at 7pm ET/4pm PT on Wednesday\, June 27. Bring your questions! \nRSVP now
URL:https://shpechicago.org/event/monthly-best-practices-webinar-work-smarter-live-better-strengthening-your-work-life-balance/
LOCATION:IL
END:VEVENT
END:VCALENDAR